BEGIN:VCALENDAR
VERSION:2.0
PRODID:-//wp-events-plugin.com//7.2.3.1//EN
TZID:Europe/London
X-WR-TIMEZONE:Europe/London
BEGIN:VEVENT
UID:158@acert.org.uk
DTSTART;TZID=Europe/London:20190108T163000
DTEND;TZID=Europe/London:20190108T190000
DTSTAMP:20181004T113905Z
URL:https://acert.org.uk/events/acert-executive-committee-2019-01-08/
SUMMARY:ACERT Executive Committee
DESCRIPTION:
CATEGORIES:EC meeting,Meeting
LOCATION:Room 746\, Institute of Education\, 20 Bedford Way\, London\, WC1H
  0AL\, United Kingdom
GEO:51.5232215;-0.12818990000005215
X-APPLE-STRUCTURED-LOCATION;VALUE=URI;X-ADDRESS=20 Bedford Way\, London\, W
 C1H 0AL\, United Kingdom;X-APPLE-RADIUS=100;X-TITLE=Room 746\, Institute o
 f Education:geo:51.5232215,-0.12818990000005215
END:VEVENT
BEGIN:VTIMEZONE
TZID:Europe/London
X-LIC-LOCATION:Europe/London
BEGIN:STANDARD
DTSTART:20181028T010000
TZOFFSETFROM:+0100
TZOFFSETTO:+0000
TZNAME:GMT
END:STANDARD
END:VTIMEZONE
END:VCALENDAR